BEGIN:VCALENDAR
VERSION:2.0
PRODID:-//ULTRAMAR - ECPv6.15.20//NONSGML v1.0//EN
CALSCALE:GREGORIAN
METHOD:PUBLISH
X-WR-CALNAME:ULTRAMAR
X-ORIGINAL-URL:https://ultramarclub.com
X-WR-CALDESC:Esdeveniments per ULTRAMAR
REFRESH-INTERVAL;VALUE=DURATION:PT1H
X-Robots-Tag:noindex
X-PUBLISHED-TTL:PT1H
BEGIN:VTIMEZONE
TZID:Europe/Helsinki
BEGIN:DAYLIGHT
TZOFFSETFROM:+0200
TZOFFSETTO:+0300
TZNAME:EEST
DTSTART:20200329T010000
END:DAYLIGHT
BEGIN:STANDARD
TZOFFSETFROM:+0300
TZOFFSETTO:+0200
TZNAME:EET
DTSTART:20201025T010000
END:STANDARD
BEGIN:DAYLIGHT
TZOFFSETFROM:+0200
TZOFFSETTO:+0300
TZNAME:EEST
DTSTART:20210328T010000
END:DAYLIGHT
BEGIN:STANDARD
TZOFFSETFROM:+0300
TZOFFSETTO:+0200
TZNAME:EET
DTSTART:20211031T010000
END:STANDARD
BEGIN:DAYLIGHT
TZOFFSETFROM:+0200
TZOFFSETTO:+0300
TZNAME:EEST
DTSTART:20220327T010000
END:DAYLIGHT
BEGIN:STANDARD
TZOFFSETFROM:+0300
TZOFFSETTO:+0200
TZNAME:EET
DTSTART:20221030T010000
END:STANDARD
END:VTIMEZONE
BEGIN:VEVENT
DTSTART;TZID=Europe/Helsinki:20211105T223000
DTEND;TZID=Europe/Helsinki:20211105T233000
DTSTAMP:20260420T074629
CREATED:20211110T105555Z
LAST-MODIFIED:20211110T105555Z
UID:2754-1636151400-1636155000@ultramarclub.com
SUMMARY:THE BLACK BARBIES
DESCRIPTION:
URL:https://ultramarclub.com/event/the-black-barbies-2/
LOCATION:Ultramar\, C/ de la Torre 1\, L'Escala\, Girona\, 17130\, Espanya
ATTACH;FMTTYPE=image/jpeg:https://ultramarclub.com/wp-content/uploads/2021/11/barbies05-11.jpg
END:VEVENT
BEGIN:VEVENT
DTSTART;TZID=Europe/Helsinki:20211112T223000
DTEND;TZID=Europe/Helsinki:20211112T233000
DTSTAMP:20260420T074629
CREATED:20211110T104130Z
LAST-MODIFIED:20211111T102918Z
UID:2741-1636756200-1636759800@ultramarclub.com
SUMMARY:Luismi Segurado - Miguel "PINTXO" Villar
DESCRIPTION:Luismi Segurado (PIano)\, Miguel Villar (Saxo) \nEl pianista nascut a Salamanca\, recull com ningú el llegat dels grans com Bill Evans\, Ahmad Jamal\, Oscar Peterson o Winton Kelly.\nFormat a la Ciutat de San Sebastian\, actualment és un habitual a l’escena Barcelonina.\nEn aquesta ocasió formarà duo amb el gran “PINTXO”\, un d’aquells músics que amb veu pròpia\, transmeten un so realment especial.\nUna meravella de concert…. \nReseva la teva taula
URL:https://ultramarclub.com/event/luismi-segurado-miguel-pintxo-villar/
LOCATION:Ultramar\, C/ de la Torre 1\, L'Escala\, Girona\, 17130\, Espanya
ATTACH;FMTTYPE=image/png:https://ultramarclub.com/wp-content/uploads/2021/11/7c190c1c-54c3-b35a-2311-834064197f9e.png
END:VEVENT
BEGIN:VEVENT
DTSTART;TZID=Europe/Helsinki:20211119T223000
DTEND;TZID=Europe/Helsinki:20211119T233000
DTSTAMP:20260420T074629
CREATED:20211111T102810Z
LAST-MODIFIED:20211111T102810Z
UID:2757-1637361000-1637364600@ultramarclub.com
SUMMARY:FRANK DURAND TRIO
DESCRIPTION:
URL:https://ultramarclub.com/event/frank-durand-trio/
LOCATION:Ultramar\, C/ de la Torre 1\, L'Escala\, Girona\, 17130\, Espanya
ATTACH;FMTTYPE=image/png:https://ultramarclub.com/wp-content/uploads/2021/11/frank19-11whats.png
END:VEVENT
BEGIN:VEVENT
DTSTART;TZID=Europe/Helsinki:20211126T223000
DTEND;TZID=Europe/Helsinki:20211126T233000
DTSTAMP:20260420T074629
CREATED:20211111T103140Z
LAST-MODIFIED:20211111T103140Z
UID:2761-1637965800-1637969400@ultramarclub.com
SUMMARY:IRENE REIG & ROGER SANTACANA DUO
DESCRIPTION:
URL:https://ultramarclub.com/event/irene-reig-roger-santacana-duo/
LOCATION:Ultramar\, C/ de la Torre 1\, L'Escala\, Girona\, 17130\, Espanya
ATTACH;FMTTYPE=image/png:https://ultramarclub.com/wp-content/uploads/2021/11/irene26-11whats.png
END:VEVENT
END:VCALENDAR