BEGIN:VCALENDAR
VERSION:2.0
PRODID:-//ULTRAMAR - ECPv6.15.20//NONSGML v1.0//EN
CALSCALE:GREGORIAN
METHOD:PUBLISH
X-WR-CALNAME:ULTRAMAR
X-ORIGINAL-URL:https://ultramarclub.com
X-WR-CALDESC:Esdeveniments per ULTRAMAR
REFRESH-INTERVAL;VALUE=DURATION:PT1H
X-Robots-Tag:noindex
X-PUBLISHED-TTL:PT1H
BEGIN:VTIMEZONE
TZID:Europe/Helsinki
BEGIN:DAYLIGHT
TZOFFSETFROM:+0200
TZOFFSETTO:+0300
TZNAME:EEST
DTSTART:20210328T010000
END:DAYLIGHT
BEGIN:STANDARD
TZOFFSETFROM:+0300
TZOFFSETTO:+0200
TZNAME:EET
DTSTART:20211031T010000
END:STANDARD
BEGIN:DAYLIGHT
TZOFFSETFROM:+0200
TZOFFSETTO:+0300
TZNAME:EEST
DTSTART:20220327T010000
END:DAYLIGHT
BEGIN:STANDARD
TZOFFSETFROM:+0300
TZOFFSETTO:+0200
TZNAME:EET
DTSTART:20221030T010000
END:STANDARD
BEGIN:DAYLIGHT
TZOFFSETFROM:+0200
TZOFFSETTO:+0300
TZNAME:EEST
DTSTART:20230326T010000
END:DAYLIGHT
BEGIN:STANDARD
TZOFFSETFROM:+0300
TZOFFSETTO:+0200
TZNAME:EET
DTSTART:20231029T010000
END:STANDARD
END:VTIMEZONE
BEGIN:VEVENT
DTSTART;TZID=Europe/Helsinki:20220703T183000
DTEND;TZID=Europe/Helsinki:20220703T183000
DTSTAMP:20260419T185434
CREATED:20220630T085923Z
LAST-MODIFIED:20220630T090104Z
UID:3049-1656873000-1656873000@ultramarclub.com
SUMMARY:THE POYO MOYA TRIO - JAZZ BY THE SEA
DESCRIPTION:
URL:https://ultramarclub.com/event/the-poyo-moya-trio/
LOCATION:Ultramar\, C/ de la Torre 1\, L'Escala\, Girona\, 17130\, Espanya
ATTACH;FMTTYPE=image/jpeg:https://ultramarclub.com/wp-content/uploads/2022/06/moya.jpg
END:VEVENT
BEGIN:VEVENT
DTSTART;TZID=Europe/Helsinki:20220707T223000
DTEND;TZID=Europe/Helsinki:20220707T223000
DTSTAMP:20260419T185434
CREATED:20220218T171048Z
LAST-MODIFIED:20220528T141204Z
UID:2838-1657233000-1657233000@ultramarclub.com
SUMMARY:Roberto Fonseca - Jazz by the Sea
DESCRIPTION:Roberto Fonseca és un pianista cubà\, vocalista\, mul6-instrumen6sta\, compositor\, productor i director de banda. \nBasat en l’Havana\, ha llançat nou àlbums en solitari\, va col·laborar entre gèneres\, ha estat nominat a un Premi Grammy i va recórrer diverses vegades el món. Al llarg del camí ha aconseguit l’objec6u amb què va iniciar la seva carrera professional a principis dels anys 90: “Allà on es6guin les persones\, vull que escol6n la meva música i diguin:“ Això és Roberto Fonseca ”. \nAr6sta de proeses i idees\, amb una inquietud sensibilitat jazzís6ca i arrels profundes en la tradició afro-cubana\, Fonseca con6nua sorprenent. “El pianista més emocionant de Cuba”\, va confirmar el diari britànic Guardian. * Fa alguna cosa nova amb el vell\, sense negar mai els seus orígens i s’obre al món “\, va insis6r Le Figaro\, de França. “Fa que totes les possibilitats semblin \npossibles\, i el moment se sent perfecte\, intensament cert”\, va declarar el New York Times. \nLa seva tècnica és tan percussiva i muscular com àgil i delicada. Els seus gustos eren sempre eclèc6cs: hard rock\, per la seva energia i línies de baix. El jazz americà\, que es va ensenyar a l’escola\, es consumia pel mig\, amb Herbie Hancock\, Keith Jarreb i Oscar Peterson en rotació. Funk i soul. Música feta a Àfrica i Brasil. Reggaeton\, electronica\, hip-hop. Música clàssica: “Mozart\, Chopin\, Beethoven\, Rachmaninov\, Scriabin\, Grieg\, BartokI sempre la música de Cuba: aquella illa del Carib vibrant\, tenaç\, crea6va i fecunda. \nLes profundes arrels afrocubanes de Fonseca apuntalen un so que construeix ponts entre l’ancestral i el modern i fa que la música cubana- tota la música- avanci\, abraçant reptes\, trencant cadenes\, mostrant el que pot ser. Inspirant a joves músics a Cuba\, per als quals les aventures de gènere creuat de Fonseca i l’èxit internacional són un referent.
URL:https://ultramarclub.com/event/roberto-fonseca-jazz-by-the-sea/
LOCATION:Ultramar\, C/ de la Torre 1\, L'Escala\, Girona\, 17130\, Espanya
ATTACH;FMTTYPE=image/jpeg:https://ultramarclub.com/wp-content/uploads/2022/02/Roberto-Fonseca-c-Patrick-Bonnard_.jpg
END:VEVENT
BEGIN:VEVENT
DTSTART;TZID=Europe/Helsinki:20220722T223000
DTEND;TZID=Europe/Helsinki:20220722T223000
DTSTAMP:20260419T185434
CREATED:20220313T130638Z
LAST-MODIFIED:20220719T180838Z
UID:2891-1658529000-1658529000@ultramarclub.com
SUMMARY:MICHAEL KANAN TRIO - Directes d'Ultramar
DESCRIPTION:Michael Kanan prové de Boston\, Massachusetts\, on va començar a tocar el piano als 7 anys. Va començar a improvisar amb el teclat ben aviat\, i als 10 anys ja estava escoltant jazz. El seu primer instructor va ser el pianista Harvey Diamond\, alumne de la innovadora del jazz Lennie Tristano. Durant els seus anys al Boston College\, Michael va tenir l’oportunitat d’actuar amb diversos grans del jazz com Tal Farlow\, Lee Konitz\, Al Cohn i Alan Dawson. Després de graduar-me a la universitat i de fer una feina independent a Boston\, em vaig traslladar a Nova York el 1991 per estudiar amb un altre estudiant de Tristano\, el pianista Sal Mosca. S’ha establert a Nova York\, tocant i gravant amb Kurt Rosenwinkel\, Mark Turner i Jorge Rossy\, entre d’altres. També va desenvolupar una reputació creixent com a acompanyant vocal. El 1996\, es va unir a la banda del llegendari cantant Jimmy Scott\, va fer una gira pels Estats Units\, Europa i Japó i va gravar 4 CD. El 2001\, Michael es va convertir en l’acompanyant i arranjador d’una de les vocalistes més famoses d’avui\, Jane Monheit. Amb el grup de la Sra. Monheit\, ha fet gires per tot el món\, ha gravat diversos CD i DVD i ha fet moltes aparicions a la televisió\, com ara The David Letterman Show i The Conan O’Brien Show.\nQuan no està de viatge amb la banda de Monheit\, Michael actua i grava amb els seus propis grups. Ha realitzat dos enregistraments en trio per al segell barceloní Fresh Sound New Talent: “Convergence” i “The Gentleman Is A Dope”\, tots dos amb el baixista Ben Street i el bateria Tim Pleasant. També ha gravat un duet amb el seu col·laborador de llarga data\, el saxofonista alt Nat Su\, titulat “Dreams And Reflections”. Es pot escoltar per Nova York amb el seu trio amb el guitarrista Greg Ruggiero i el baixista Neal Miner.
URL:https://ultramarclub.com/event/michael-kanan-trio-3/
LOCATION:Ultramar\, C/ de la Torre 1\, L'Escala\, Girona\, 17130\, Espanya
ATTACH;FMTTYPE=image/jpeg:https://ultramarclub.com/wp-content/uploads/2022/03/KANAN-CANCELAT.jpg
END:VEVENT
END:VCALENDAR