BEGIN:VCALENDAR
VERSION:2.0
PRODID:-//ULTRAMAR - ECPv6.15.20//NONSGML v1.0//EN
CALSCALE:GREGORIAN
METHOD:PUBLISH
X-ORIGINAL-URL:https://ultramarclub.com
X-WR-CALDESC:Esdeveniments per ULTRAMAR
REFRESH-INTERVAL;VALUE=DURATION:PT1H
X-Robots-Tag:noindex
X-PUBLISHED-TTL:PT1H
BEGIN:VTIMEZONE
TZID:Europe/Helsinki
BEGIN:DAYLIGHT
TZOFFSETFROM:+0200
TZOFFSETTO:+0300
TZNAME:EEST
DTSTART:20210328T010000
END:DAYLIGHT
BEGIN:STANDARD
TZOFFSETFROM:+0300
TZOFFSETTO:+0200
TZNAME:EET
DTSTART:20211031T010000
END:STANDARD
BEGIN:DAYLIGHT
TZOFFSETFROM:+0200
TZOFFSETTO:+0300
TZNAME:EEST
DTSTART:20220327T010000
END:DAYLIGHT
BEGIN:STANDARD
TZOFFSETFROM:+0300
TZOFFSETTO:+0200
TZNAME:EET
DTSTART:20221030T010000
END:STANDARD
BEGIN:DAYLIGHT
TZOFFSETFROM:+0200
TZOFFSETTO:+0300
TZNAME:EEST
DTSTART:20230326T010000
END:DAYLIGHT
BEGIN:STANDARD
TZOFFSETFROM:+0300
TZOFFSETTO:+0200
TZNAME:EET
DTSTART:20231029T010000
END:STANDARD
END:VTIMEZONE
BEGIN:VEVENT
DTSTART;TZID=Europe/Helsinki:20220804T223000
DTEND;TZID=Europe/Helsinki:20220804T223000
DTSTAMP:20260419T170837
CREATED:20220313T130717Z
LAST-MODIFIED:20220609T074658Z
UID:2893-1659652200-1659652200@ultramarclub.com
SUMMARY:STAV - Directes d'Ultramar
DESCRIPTION:Stav Achai és una pianista\, compositora i arranjadora amb seu a Tel Aviv. Com a artista intèrpret\, és coneguda pel seu so únic\, combinant harmonies RnB de jazz amb melodies enganxadores populars. \nUn conjunt de jazz l’ADN del qual està inspirat en la música minimalista\, africana\, clàssica\, rock i pop \nEl primer àlbum de STAV\, Plastic Cocoon\, es va publicar el 2020 i va ser guardonat amb el premi àlbum de l’any per la revista Columbus i va rebre molts reconeixements a tot el món. \nStav va començar el seu viatge musical des d’un punt de vista clàssic però amb el pas dels anys va començar a explorar l’ampli ventall de música jazz\, rock i pop. \nAvui combina els mons creant una colorida paleta de música.
URL:https://ultramarclub.com/event/stav/
LOCATION:Ultramar\, C/ de la Torre 1\, L'Escala\, Girona\, 17130\, Espanya
ATTACH;FMTTYPE=image/jpeg:https://ultramarclub.com/wp-content/uploads/2022/03/stav1-copia.jpg
END:VEVENT
END:VCALENDAR